BEGIN:VCALENDAR
VERSION:2.0
PRODID:-//Weserbergland Musikanten - ECPv6.15.20//NONSGML v1.0//EN
CALSCALE:GREGORIAN
METHOD:PUBLISH
X-ORIGINAL-URL:https://weserberglandmusikanten.de
X-WR-CALDESC:Veranstaltungen für Weserbergland Musikanten
REFRESH-INTERVAL;VALUE=DURATION:PT1H
X-Robots-Tag:noindex
X-PUBLISHED-TTL:PT1H
BEGIN:VTIMEZONE
TZID:Europe/Berlin
BEGIN:DAYLIGHT
TZOFFSETFROM:+0100
TZOFFSETTO:+0200
TZNAME:CEST
DTSTART:20250330T010000
END:DAYLIGHT
BEGIN:STANDARD
TZOFFSETFROM:+0200
TZOFFSETTO:+0100
TZNAME:CET
DTSTART:20251026T010000
END:STANDARD
BEGIN:DAYLIGHT
TZOFFSETFROM:+0100
TZOFFSETTO:+0200
TZNAME:CEST
DTSTART:20260329T010000
END:DAYLIGHT
BEGIN:STANDARD
TZOFFSETFROM:+0200
TZOFFSETTO:+0100
TZNAME:CET
DTSTART:20261025T010000
END:STANDARD
BEGIN:DAYLIGHT
TZOFFSETFROM:+0100
TZOFFSETTO:+0200
TZNAME:CEST
DTSTART:20270328T010000
END:DAYLIGHT
BEGIN:STANDARD
TZOFFSETFROM:+0200
TZOFFSETTO:+0100
TZNAME:CET
DTSTART:20271031T010000
END:STANDARD
END:VTIMEZONE
BEGIN:VEVENT
DTSTART;TZID=Europe/Berlin:20260704T190000
DTEND;TZID=Europe/Berlin:20260705T010000
DTSTAMP:20260420T081704
CREATED:20251029T084526Z
LAST-MODIFIED:20251029T084526Z
UID:522-1783191600-1783213200@weserberglandmusikanten.de
SUMMARY:Weserbeleuchtung Oedelsheim
DESCRIPTION:Erleben Sie einzigartige Wasserspiele mit hunderten Lichtern auf der Weser\, musikalische Begleitung durch die Weserberglandmusikanten\, ein spektakuläres Höhenfeuerwerk und vieles mehr.
URL:https://weserberglandmusikanten.de/event/weserbeleuchtung-oedelsheim/
LOCATION:Weserbeleuchtung Oedelsheim\, Weserpromenade Oedelsheim\, Wesertal\, 34399
ATTACH;FMTTYPE=image/jpeg:https://weserberglandmusikanten.de/wp-content/uploads/2025/10/Oedelsheim_Weser.jpg
END:VEVENT
BEGIN:VEVENT
DTSTART;TZID=Europe/Berlin:20260711T200000
DTEND;TZID=Europe/Berlin:20260712T010000
DTSTAMP:20260420T081704
CREATED:20251028T173620Z
LAST-MODIFIED:20251030T080157Z
UID:515-1783800000-1783818000@weserberglandmusikanten.de
SUMMARY:Kirmes in Hemeln
DESCRIPTION:Feiern Sie mit uns auf der Kirmes in Hemeln\, wenn wir den Dreschschuppen zum Kochen bringen.
URL:https://weserberglandmusikanten.de/event/kirmes-in-hemeln/
LOCATION:Dreschschuppen Hemeln\, Unterdorf 14\, Hemeln\, Hann. Münden\, 34346\, Germany
ATTACH;FMTTYPE=image/jpeg:https://weserberglandmusikanten.de/wp-content/uploads/2025/10/IMG_20250901_161245-scaled.jpg
END:VEVENT
END:VCALENDAR